BEGIN:VCALENDAR
VERSION:2.0
PRODID:-//hacksw/handcal//NONSGML v1.0//EN
BEGIN:VEVENT
SUMMARY:Ent. U9 - U11
UID:4f2d3650-dd26-4044-87eb-68e43e633b51
DTSTART:20260401T140000Z
DTEND:20260401T153000Z
LOCATION:Complexe Omnisports 40 rue Nationale 22230 Merdrignac
CATEGORIES:Entrainement
STATUS:
URL;VALUE=URI:https://www.csm-basket.com/evenements/2026/04/01/ent-u9-u11-2273364
END:VEVENT
END:VCALENDAR
