BEGIN:VCALENDAR
VERSION:2.0
PRODID:-//hacksw/handcal//NONSGML v1.0//EN
BEGIN:VEVENT
SUMMARY:Ent. U9 - U11
UID:f2eefd39-b94b-4b30-aced-856025c4aae9
DTSTART:20260408T140000Z
DTEND:20260408T153000Z
LOCATION:Complexe Omnisports 40 rue Nationale 22230 Merdrignac
CATEGORIES:Entrainement
STATUS:
URL;VALUE=URI:https://www.csm-basket.com/evenements/2026/04/08/ent-u9-u11-2273365
END:VEVENT
END:VCALENDAR
