BEGIN:VCALENDAR
VERSION:2.0
PRODID:-//hacksw/handcal//NONSGML v1.0//EN
BEGIN:VEVENT
SUMMARY:Ent. U9 - U11
UID:c20ac20e-1968-47bb-bcfb-35e45aaeee12
DTSTART:20260506T140000Z
DTEND:20260506T153000Z
LOCATION:Complexe Omnisports 40 rue Nationale 22230 Merdrignac
CATEGORIES:Entrainement
STATUS:
URL;VALUE=URI:https://www.csm-basket.com/evenements/2026/05/06/ent-u9-u11-2273367
END:VEVENT
END:VCALENDAR
