BEGIN:VCALENDAR
VERSION:2.0
PRODID:-//hacksw/handcal//NONSGML v1.0//EN
BEGIN:VEVENT
SUMMARY:Ent. U9 - U11
UID:8349ff36-2ee4-4350-a9a4-70176d45c6ee
DTSTART:20260513T140000Z
DTEND:20260513T153000Z
LOCATION:Complexe Omnisports 40 rue Nationale 22230 Merdrignac
CATEGORIES:Entrainement
STATUS:
URL;VALUE=URI:https://www.csm-basket.com/evenements/2026/05/13/ent-u9-u11-2273368
END:VEVENT
END:VCALENDAR
